BEGIN:VCALENDAR
VERSION:2.0
PRODID:-//hacksw/handcal//NONSGML v1.0//EN
BEGIN:VEVENT
SUMMARY:Entrainement
UID:29264b66-34b1-453d-a1fc-ab33d929525e
DTSTART:20260421T163000Z
DTEND:20260421T183000Z
LOCATION:Localisation   
CATEGORIES:Sportif
STATUS:
DESCRIPTION:<p><u><strong>Groupe 1 et
 2</strong></u></p>
 
 <p>Echauffement 30mn</p>
 
 <p><u>2
 series</u> </p>
 
 <p>200m recup 100m / 300 recup 100m / 400m recup
 200m / 300m recup 100 / 200m recup 100m </p>
 
 <p><u><em>recup 3mn
 entre les series</em></u></p>
 
 <p>Retour au calme 10mn</p>
URL;VALUE=URI:https://www.coccathle.fr/evenements/2026/04/21/entrainement-2443599
END:VEVENT
END:VCALENDAR
