BEGIN:VCALENDAR
VERSION:2.0
PRODID:-//hacksw/handcal//NONSGML v1.0//EN
BEGIN:VEVENT
SUMMARY:Entrainement
UID:d27874fc-d9de-44b6-8644-203debeb1402
DTSTART:20260423T163000Z
DTEND:20260423T183000Z
LOCATION:Localisation   
CATEGORIES:Sportif
STATUS:
DESCRIPTION:<p><u><em><strong>Groupe 1 et
 2</strong></em></u></p>
 
 <p>Echauffement 30mn</p>
 
 <p>2X10mn recup
 3mn</p>
 
 <p>Retour au calme 10mn</p>
URL;VALUE=URI:https://www.coccathle.fr/evenements/2026/04/23/entrainement-2443603
END:VEVENT
END:VCALENDAR
